BEGIN:VCALENDAR
VERSION:2.0
PRODID:-//Marine Corps League - Thames River Detachment 1334 - ECPv6.13.2.1//NONSGML v1.0//EN
CALSCALE:GREGORIAN
METHOD:PUBLISH
X-ORIGINAL-URL:https://mcltrd1334.org/go
X-WR-CALDESC:Events for Marine Corps League - Thames River Detachment 1334
REFRESH-INTERVAL;VALUE=DURATION:PT1H
X-Robots-Tag:noindex
X-PUBLISHED-TTL:PT1H
BEGIN:VTIMEZONE
TZID:America/New_York
BEGIN:DAYLIGHT
TZOFFSETFROM:-0500
TZOFFSETTO:-0400
TZNAME:EDT
DTSTART:20240310T070000
END:DAYLIGHT
BEGIN:STANDARD
TZOFFSETFROM:-0400
TZOFFSETTO:-0500
TZNAME:EST
DTSTART:20241103T060000
END:STANDARD
BEGIN:DAYLIGHT
TZOFFSETFROM:-0500
TZOFFSETTO:-0400
TZNAME:EDT
DTSTART:20250309T070000
END:DAYLIGHT
BEGIN:STANDARD
TZOFFSETFROM:-0400
TZOFFSETTO:-0500
TZNAME:EST
DTSTART:20251102T060000
END:STANDARD
END:VTIMEZONE
BEGIN:VEVENT
DTSTART;TZID=America/New_York:20250812T180000
DTEND;TZID=America/New_York:20250812T190000
DTSTAMP:20260423T171620
CREATED:20250513T153106Z
LAST-MODIFIED:20250626T183353Z
UID:878-1755021600-1755025200@mcltrd1334.org
SUMMARY:August 2025 Detachment Meeting
DESCRIPTION:
URL:https://mcltrd1334.org/go/index.php/event/august-2025-detachment-meeting/
CATEGORIES:Detachment Meetings
END:VEVENT
BEGIN:VEVENT
DTSTART;TZID=America/New_York:20250708T180000
DTEND;TZID=America/New_York:20250708T180000
DTSTAMP:20260423T171620
CREATED:20250513T152939Z
LAST-MODIFIED:20250513T153008Z
UID:876-1751997600-1751997600@mcltrd1334.org
SUMMARY:July 2025 Detachment Meeting
DESCRIPTION:
URL:https://mcltrd1334.org/go/index.php/event/july-2025-detachment-meeting/
CATEGORIES:Detachment Meetings
END:VEVENT
BEGIN:VEVENT
DTSTART;TZID=America/New_York:20250513T180000
DTEND;TZID=America/New_York:20250603T183000
DTSTAMP:20260423T171620
CREATED:20250513T152845Z
LAST-MODIFIED:20250513T153151Z
UID:874-1747159200-1748975400@mcltrd1334.org
SUMMARY:June 2025 Detachment Meeting
DESCRIPTION:6:00 PM Dinner \n6:30 PM Meeting
URL:https://mcltrd1334.org/go/index.php/event/june-2025-detachment-meeting/
LOCATION:Montville VFW Hall\, 91 Raymond Road\, Uncasville\, CT\, 06382\, United States
CATEGORIES:Detachment Meetings
END:VEVENT
BEGIN:VEVENT
DTSTART;TZID=America/New_York:20250401T180000
DTEND;TZID=America/New_York:20250401T193000
DTSTAMP:20260423T171620
CREATED:20250130T215342Z
LAST-MODIFIED:20250305T171039Z
UID:825-1743530400-1743535800@mcltrd1334.org
SUMMARY:April 2025 Monthly Detachment Meeting
DESCRIPTION:April 2025 Monthly Detachment Meeting
URL:https://mcltrd1334.org/go/index.php/event/april-2025-monthly-detachment-meeting/
LOCATION:Montville VFW Hall\, 91 Raymond Road\, Uncasville\, CT\, 06382\, United States
CATEGORIES:Detachment Meetings
END:VEVENT
BEGIN:VEVENT
DTSTART;TZID=America/New_York:20250304T180000
DTEND;TZID=America/New_York:20250304T193000
DTSTAMP:20260423T171620
CREATED:20250130T215227Z
LAST-MODIFIED:20250305T171129Z
UID:823-1741111200-1741116600@mcltrd1334.org
SUMMARY:March 2025 Monthly Detachment Meeting
DESCRIPTION:March 2025 Monthly Detachment Meeting
URL:https://mcltrd1334.org/go/index.php/event/march-2025-monthly-detachment-meeting/
CATEGORIES:Detachment Meetings
END:VEVENT
BEGIN:VEVENT
DTSTART;TZID=America/New_York:20250211T180000
DTEND;TZID=America/New_York:20250211T193000
DTSTAMP:20260423T171620
CREATED:20250130T203838Z
LAST-MODIFIED:20250130T203838Z
UID:818-1739296800-1739302200@mcltrd1334.org
SUMMARY:February 2025 Detachment Meeting
DESCRIPTION:February 2025 Detachment Meeting
URL:https://mcltrd1334.org/go/index.php/event/february-2025-detachment-meeting/
CATEGORIES:Detachment Meetings
END:VEVENT
BEGIN:VEVENT
DTSTART;TZID=America/New_York:20250114T180000
DTEND;TZID=America/New_York:20250114T180000
DTSTAMP:20260423T171620
CREATED:20241229T170502Z
LAST-MODIFIED:20241229T170620Z
UID:790-1736877600-1736877600@mcltrd1334.org
SUMMARY:January Detachment Meeting
DESCRIPTION:
URL:https://mcltrd1334.org/go/index.php/event/january-detachment-meeting/
CATEGORIES:Detachment Meetings
END:VEVENT
BEGIN:VEVENT
DTSTART;TZID=America/New_York:20241210T180000
DTEND;TZID=America/New_York:20241210T200000
DTSTAMP:20260423T171620
CREATED:20240926T145643Z
LAST-MODIFIED:20240926T145643Z
UID:637-1733853600-1733860800@mcltrd1334.org
SUMMARY:December 2024 Detachment Meeting
DESCRIPTION:Monthly detachment meeting for members and associate members.
URL:https://mcltrd1334.org/go/index.php/event/december-2024-detachment-meeting/
LOCATION:Montville VFW Hall\, 91 Raymond Road\, Uncasville\, CT\, 06382\, United States
CATEGORIES:Detachment Meetings
ATTACH;FMTTYPE=image/jpeg:https://mcltrd1334.org/go/wp-content/uploads/2024/09/trd-event.jpg
END:VEVENT
BEGIN:VEVENT
DTSTART;TZID=America/New_York:20241112T180000
DTEND;TZID=America/New_York:20241112T190000
DTSTAMP:20260423T171620
CREATED:20240918T000041Z
LAST-MODIFIED:20240926T145856Z
UID:537-1731434400-1731438000@mcltrd1334.org
SUMMARY:November 2024 Detachment Meeting
DESCRIPTION:Monthly detachment meeting for members and associate members.
URL:https://mcltrd1334.org/go/index.php/event/november-2024-detachment-meeting/
LOCATION:Montville VFW Hall\, 91 Raymond Road\, Uncasville\, CT\, 06382\, United States
CATEGORIES:Detachment Meetings
ATTACH;FMTTYPE=image/jpeg:https://mcltrd1334.org/go/wp-content/uploads/2024/09/eagle-flag-ega.jpg
END:VEVENT
BEGIN:VEVENT
DTSTART;TZID=America/New_York:20241109T160000
DTEND;TZID=America/New_York:20241109T220000
DTSTAMP:20260423T171620
CREATED:20240917T180547Z
LAST-MODIFIED:20240926T150122Z
UID:491-1731168000-1731189600@mcltrd1334.org
SUMMARY:249th Marine Corps Birthday Ball
DESCRIPTION:🎉 Join Us for the 249th Marine Corps Birthday Ball! 🎉 \nAs we celebrate **249 years of honor\, courage\, and commitment**\, the **Thames River Detachment** invites you to join us for the **249th Marine Corps Birthday Ball**! This annual event is a proud tradition where Marines\, veterans\, families\, and supporters come together to celebrate the birth of our beloved Corps and to honor the sacrifices and achievements of Marines throughout history. \nEvent Highlights \n– Ceremonial Cake Cutting: Witness the time-honored tradition of the Marine Corps Birthday cake cutting\, where the oldest and youngest Marines in attendance share in this symbol of passing on the legacy of the Corps. \n– Dinner & Dancing: Enjoy a delicious dinner\, followed by an evening of dancing and camaraderie with fellow Marines\, veterans\, and guests. \n– Marine Corps Birthday Message: Listen as we read the traditional **Marine Corps Birthday Message** from General John A. Lejeune\, reminding us of the rich history and pride of the United States Marine Corps. \n– Awards & Recognitions: We will also take this special occasion to recognize outstanding members of the Thames River Detachment and honor those who have made significant contributions to our community. \nDress Code \n– Marines & Veterans: Dress Blues or Service Uniforms\n– Civilians: Black Tie or Formal Attire \nTickets & RSVP \n🎟 Ticket Price: $50 per person\nTickets include a full-course dinner\, entertainment\, and access to all the evening’s events. \n📅 RSVP Deadline: Please purchase tickets and RSVP by October’s Detachment Meeting.  Only members can purchase tickets.  Guests may attend if sponsored and paid for as guest by a member.  A non member cannot purchase entry\, only attend as a guest of a member. \nLocation \nParking will be available at the venue\, and details on accommodations for out-of-town guests will be provided upon request. \nSupport Our Marines \nThe Marine Corps Birthday Ball is not only a celebration but also a chance to support the Thames River Detachment’s charitable efforts. Proceeds from the event will help fund our **veteran support programs\, community outreach\, and scholarships** for the children of Marines and veterans. \nJoin Us in Celebrating 249 Years of Marine Corps Excellence! \nThis is an evening you won’t want to miss! Join us as we honor the Marine Corps’ rich history and look ahead to the future with pride. Whether you served in the Corps or simply support those who have\, we welcome you to be a part of this cherished tradition. \nFor more information or to purchase tickets\, contact us. \n**Semper Fidelis!** 🦅🌍⚓\n#MarineCorpsBall #249thBirthdayBall #MarineCorpsLeague #SemperFi #HonorCourageCommitment #ThamesRiverDetachment
URL:https://mcltrd1334.org/go/index.php/event/249th-marine-corps-birthday-ball/
LOCATION:Montville VFW Hall\, 91 Raymond Road\, Uncasville\, CT\, 06382\, United States
ATTACH;FMTTYPE=image/jpeg:https://mcltrd1334.org/go/wp-content/uploads/2024/09/DSC_0852-scaled.jpg
END:VEVENT
BEGIN:VEVENT
DTSTART;TZID=America/New_York:20241008T173000
DTEND;TZID=America/New_York:20241008T190000
DTSTAMP:20260423T171620
CREATED:20240917T235433Z
LAST-MODIFIED:20240926T145757Z
UID:535-1728408600-1728414000@mcltrd1334.org
SUMMARY:October 2024 Detachment Meeting
DESCRIPTION:Our monthly detachment member and associate member meeting.
URL:https://mcltrd1334.org/go/index.php/event/october-2024-detachment-meeting/
LOCATION:Montville VFW Hall\, 91 Raymond Road\, Uncasville\, CT\, 06382\, United States
CATEGORIES:Detachment Meetings
ATTACH;FMTTYPE=image/jpeg:https://mcltrd1334.org/go/wp-content/uploads/2024/09/117226503.X7RHhG1t-1.jpg
END:VEVENT
END:VCALENDAR